BEGIN:VCALENDAR
VERSION:2.0
PRODID:icalendar-ruby
CALSCALE:GREGORIAN
BEGIN:VEVENT
DTSTAMP:20260419T142616Z
UID:389f24b1-2b16-463e-b4d8-c29d5ed88957
DTSTART;VALUE=DATE:20260225
DESCRIPTION:Property ID# 603182\, Locatoin: Bower Rooms\, 411 Cameron Road\
 , Tauranga\, Time: 2:00PM
SUMMARY:Auction for 
END:VEVENT
END:VCALENDAR
