BEGIN:VCALENDAR
VERSION:2.0
PRODID:icalendar-ruby
CALSCALE:GREGORIAN
BEGIN:VEVENT
DTSTAMP:20260419T124302Z
UID:ce3b663b-7aca-4700-95d6-00d137b725a6
DTSTART;VALUE=DATE:20250611
DESCRIPTION:Property ID# 593082\, Locatoin: Harcourts Auction Room\, 1 Thir
 d Avenue\, Tauranga\, Time: 11:30AM
SUMMARY:Auction for 
END:VEVENT
END:VCALENDAR
