BEGIN:VCALENDAR
VERSION:2.0
PRODID:icalendar-ruby
CALSCALE:GREGORIAN
BEGIN:VEVENT
DTSTAMP:20210122T072441Z
UID:8f430046-98ea-44c0-8767-3bf534e7b965
DTSTART;TZID=Pacific/Auckland:20210123T110000
DTEND;TZID=Pacific/Auckland:20210123T113000
DESCRIPTION:Property ID# 499845
SUMMARY:Openhome for 17 Wai Huri Place
END:VEVENT
END:VCALENDAR
