BEGIN:VCALENDAR
VERSION:2.0
PRODID:icalendar-ruby
CALSCALE:GREGORIAN
BEGIN:VEVENT
DTSTAMP:20210122T072431Z
UID:509d486b-49b8-4e31-bbfd-d18ea3a4ee3a
DTSTART;TZID=Pacific/Auckland:20210124T133000
DTEND;TZID=Pacific/Auckland:20210124T140000
DESCRIPTION:Property ID# 499443
SUMMARY:Openhome for 74 Bert Wall Drive
END:VEVENT
END:VCALENDAR
