BEGIN:VCALENDAR
VERSION:2.0
PRODID:icalendar-ruby
CALSCALE:GREGORIAN
BEGIN:VEVENT
DTSTAMP:20210122T072422Z
UID:a279a64e-912b-4382-bffd-ddf67353e12b
DTSTART;TZID=Pacific/Auckland:20210124T123000
DTEND;TZID=Pacific/Auckland:20210124T133000
DESCRIPTION:Property ID# 498928
SUMMARY:Openhome for 45 Barret Road
END:VEVENT
END:VCALENDAR
