BEGIN:VCALENDAR
VERSION:2.0
PRODID:icalendar-ruby
CALSCALE:GREGORIAN
BEGIN:VEVENT
DTSTAMP:20210122T073417Z
UID:d9e465cb-4614-4008-ace9-2d0409405a72
DTSTART;VALUE=DATE:20210304
DESCRIPTION:Property ID# 500075\, Locatoin: Level 1\, 51 The Strand\, Taura
 nga 3110\, Time: 1:00PM
SUMMARY:Auction for 15 Malibu Key
END:VEVENT
END:VCALENDAR
