BEGIN:VCALENDAR
VERSION:2.0
PRODID:icalendar-ruby
CALSCALE:GREGORIAN
BEGIN:VEVENT
DTSTAMP:20210122T073937Z
UID:3aab6491-503f-49cd-a5e0-b350837fdf9e
DTSTART;VALUE=DATE:20210217
DESCRIPTION:Property ID# 499801\, Locatoin: 247 Cameron Road\, Tauranga\, T
 ime: 1:00PM
SUMMARY:Auction for 261a Minden Rd
END:VEVENT
END:VCALENDAR
