BEGIN:VCALENDAR
VERSION:2.0
PRODID:icalendar-ruby
CALSCALE:GREGORIAN
BEGIN:VEVENT
DTSTAMP:20210122T072423Z
UID:1a21a102-6562-4e45-8d5d-eb693bb9f2ad
DTSTART;VALUE=DATE:20210224
DESCRIPTION:Property ID# 499629\, Time: 1:00PM
SUMMARY:Auction for 225A  Thompsons Track 
END:VEVENT
END:VCALENDAR
