BEGIN:VCALENDAR
VERSION:2.0
PRODID:icalendar-ruby
CALSCALE:GREGORIAN
BEGIN:VEVENT
DTSTAMP:20210122T072435Z
UID:08c9330c-0e45-4baf-afa3-a0cbc4ec9aeb
DTSTART;VALUE=DATE:20210304
DESCRIPTION:Property ID# 499453\, Locatoin: Sotheby's\, Level 1\, 51 The St
 rand (unless sold prior)\, Time: 1:00PM
SUMMARY:Auction for 140 Kayelene Place
END:VEVENT
END:VCALENDAR
