BEGIN:VCALENDAR
VERSION:2.0
PRODID:icalendar-ruby
CALSCALE:GREGORIAN
BEGIN:VEVENT
DTSTAMP:20210122T074006Z
UID:aa6bc8cb-ff6a-4701-a8d0-8ed0431d7f6d
DTSTART;VALUE=DATE:20210225
DESCRIPTION:Property ID# 499036\, Time: 12:00PM
SUMMARY:Auction for 2/85 Forkert Road
END:VEVENT
END:VCALENDAR
