BEGIN:VCALENDAR
VERSION:2.0
PRODID:icalendar-ruby
CALSCALE:GREGORIAN
BEGIN:VEVENT
DTSTAMP:20210122T074007Z
UID:6caffc98-2e14-49ac-b185-772db181ce58
DTSTART;VALUE=DATE:20210217
DESCRIPTION:Property ID# 498226\, Time: 4:00PM
SUMMARY:Auction for 69A McCoy Road
END:VEVENT
END:VCALENDAR
