BEGIN:VCALENDAR
VERSION:2.0
PRODID:icalendar-ruby
CALSCALE:GREGORIAN
BEGIN:VEVENT
DTSTAMP:20210122T073410Z
UID:70b72449-b04b-4f1c-9d0c-8da448cfdab7
DTSTART;VALUE=DATE:20201222
DESCRIPTION:Property ID# 497963\, Time: 3:00PM
SUMMARY:Auction for 
END:VEVENT
END:VCALENDAR
