BEGIN:VCALENDAR
VERSION:2.0
PRODID:icalendar-ruby
CALSCALE:GREGORIAN
BEGIN:VEVENT
DTSTAMP:20210122T074009Z
UID:f347b336-8f22-4cd9-a0e8-b0e94ce752f7
DTSTART;VALUE=DATE:20210218
DESCRIPTION:Property ID# 497489\, Time: 4:00PM
SUMMARY:Auction for 215 Ohiwa Beach Road
END:VEVENT
END:VCALENDAR
