BEGIN:VCALENDAR
VERSION:2.0
PRODID:icalendar-ruby
CALSCALE:GREGORIAN
BEGIN:VEVENT
DTSTAMP:20210122T073424Z
UID:4bdbf2fd-ed75-4169-bc6e-e5562deb62d6
DTSTART;VALUE=DATE:20201210
DESCRIPTION:Property ID# 496150\, Locatoin: Level 1\, 51 The Strand\, Taura
 nga (unless sold prior)\, Time: 12:00PM
SUMMARY:Auction for 
END:VEVENT
END:VCALENDAR
