BEGIN:VCALENDAR
VERSION:2.0
PRODID:icalendar-ruby
CALSCALE:GREGORIAN
BEGIN:VEVENT
DTSTAMP:20210122T073400Z
UID:3419b2fc-75a1-432a-b4de-96f15c34df92
DTSTART;VALUE=DATE:20201216
DESCRIPTION:Property ID# 496060\, Locatoin: 247 Cameron Road\, Tauranga\, T
 ime: 12:00PM
SUMMARY:Auction for 
END:VEVENT
END:VCALENDAR
