BEGIN:VCALENDAR
VERSION:2.0
PRODID:icalendar-ruby
CALSCALE:GREGORIAN
BEGIN:VEVENT
DTSTAMP:20210122T074010Z
UID:0189ee8f-50fe-4c71-8c59-27db007cea14
DTSTART;VALUE=DATE:20201203
DESCRIPTION:Property ID# 495062\, Locatoin: Bayleys Auction Rooms \, Time: 
 4:00PM
SUMMARY:Auction for 144 Campbell Road
END:VEVENT
END:VCALENDAR
