BEGIN:VCALENDAR
VERSION:2.0
PRODID:icalendar-ruby
CALSCALE:GREGORIAN
BEGIN:VEVENT
DTSTAMP:20210122T073935Z
UID:196724a4-c422-473d-a866-d32414d31728
DTSTART;VALUE=DATE:20201202
DESCRIPTION:Property ID# 494641\, Locatoin: 247 Cameron Road\, Tauranga\, T
 ime: 1:00PM
SUMMARY:Auction for 
END:VEVENT
END:VCALENDAR
