BEGIN:VCALENDAR
VERSION:2.0
PRODID:icalendar-ruby
CALSCALE:GREGORIAN
BEGIN:VEVENT
DTSTAMP:20210122T073425Z
UID:1ef96833-a79d-44bb-ab84-a6cfa3b4b1b8
DTSTART;VALUE=DATE:20201126
DESCRIPTION:Property ID# 494000\, Locatoin: Level 1\, 51 The Strand\, Taura
 nga\, 3110\, New Zealand\, Time: 1:00PM
SUMMARY:Auction for 
END:VEVENT
END:VCALENDAR
