BEGIN:VCALENDAR
VERSION:2.0
PRODID:icalendar-ruby
CALSCALE:GREGORIAN
BEGIN:VEVENT
DTSTAMP:20210122T073336Z
UID:e30c08a1-ad2a-491d-92dc-df6277fe4779
DTSTART;VALUE=DATE:20201118
DESCRIPTION:Property ID# 493326\, Locatoin: 247 Cameron Road\, Tauranga (un
 less sold prior)\, Time: 1:00PM
SUMMARY:Auction for 
END:VEVENT
END:VCALENDAR
