BEGIN:VCALENDAR
VERSION:2.0
PRODID:icalendar-ruby
CALSCALE:GREGORIAN
BEGIN:VEVENT
DTSTAMP:20210122T073430Z
UID:20dd831a-ba38-4d75-995b-0c503dd46404
DTSTART;VALUE=DATE:20201119
DESCRIPTION:Property ID# 493231\, Locatoin: (unless sold prior) in rooms\, 
 Level 1\, 51 The Strand\, Tauranga\, Time: 1:00PM
SUMMARY:Auction for 
END:VEVENT
END:VCALENDAR
