BEGIN:VCALENDAR
VERSION:2.0
PRODID:icalendar-ruby
CALSCALE:GREGORIAN
BEGIN:VEVENT
DTSTAMP:20210122T073338Z
UID:c936dd8b-8a01-4d0c-904b-8e50501b530a
DTSTART;VALUE=DATE:20201111
DESCRIPTION:Property ID# 492683\, Locatoin: 247 Cameron Road\, Tauranga (un
 less sold prior)\, Time: 1:00PM
SUMMARY:Auction for 
END:VEVENT
END:VCALENDAR
