BEGIN:VCALENDAR
VERSION:2.0
PRODID:icalendar-ruby
CALSCALE:GREGORIAN
BEGIN:VEVENT
DTSTAMP:20210122T073958Z
UID:933c8bee-4137-49b2-98e4-fdd08560c7bb
DTSTART;VALUE=DATE:20201120
DESCRIPTION:Property ID# 491951\, Locatoin: 247 Cameron Road\, Tauranga\, T
 ime: 4:00PM
SUMMARY:Auction for 21 Devonport Road
END:VEVENT
END:VCALENDAR
