BEGIN:VCALENDAR
VERSION:2.0
PRODID:icalendar-ruby
CALSCALE:GREGORIAN
BEGIN:VEVENT
DTSTAMP:20210122T073339Z
UID:d2ca2424-df13-4294-8472-a2cce39b6a37
DTSTART;VALUE=DATE:20201104
DESCRIPTION:Property ID# 491774\, Locatoin: 247 Cameron Road\, Tauranga (un
 less sold prior)\, Time: 1:00PM
SUMMARY:Auction for 
END:VEVENT
END:VCALENDAR
