BEGIN:VCALENDAR
VERSION:2.0
PRODID:icalendar-ruby
CALSCALE:GREGORIAN
BEGIN:VEVENT
DTSTAMP:20210122T073343Z
UID:1c818229-ce8a-415b-9f7b-fcb4f4cd76de
DTSTART;VALUE=DATE:20201028
DESCRIPTION:Property ID# 491512\, Locatoin: 247 Cameron Road\, Tauranga (un
 less sold prior)\, Time: 1:00PM
SUMMARY:Auction for 
END:VEVENT
END:VCALENDAR
