BEGIN:VCALENDAR
VERSION:2.0
PRODID:icalendar-ruby
CALSCALE:GREGORIAN
BEGIN:VEVENT
DTSTAMP:20210122T073346Z
UID:28a79a86-94e4-40e5-83da-3a0fc4ae0bc0
DTSTART;VALUE=DATE:20201021
DESCRIPTION:Property ID# 490921\, Locatoin: 247 Cameron Road\, Tauranga \, 
 Time: 1:00PM
SUMMARY:Auction for 
END:VEVENT
END:VCALENDAR
