BEGIN:VCALENDAR
VERSION:2.0
PRODID:icalendar-ruby
CALSCALE:GREGORIAN
BEGIN:VEVENT
DTSTAMP:20210122T073351Z
UID:ddbf9111-d601-4132-bdb8-aa26e33caa56
DTSTART;VALUE=DATE:20200826
DESCRIPTION:Property ID# 486196\, Locatoin: 247 Cameron Road\, Tauranga (un
 less sold prior)\, Time: 12:00PM
SUMMARY:Auction for 
END:VEVENT
END:VCALENDAR
