BEGIN:VCALENDAR
VERSION:2.0
PRODID:icalendar-ruby
CALSCALE:GREGORIAN
BEGIN:VEVENT
DTSTAMP:20210122T073948Z
UID:c1e73b06-a0d8-4c1a-8464-4ef4f357b5cc
DTSTART;VALUE=DATE:20200819
DESCRIPTION:Property ID# 486183\, Locatoin: Auction Rooms\, 247 Cameron Roa
 d\, Tauranga. Unless sold prior\, Time: 1:00PM
SUMMARY:Auction for 
END:VEVENT
END:VCALENDAR
