BEGIN:VCALENDAR
VERSION:2.0
PRODID:icalendar-ruby
CALSCALE:GREGORIAN
BEGIN:VEVENT
DTSTAMP:20210122T073404Z
UID:c722b30d-1b73-4674-9acb-0c94fba354d7
DTSTART;VALUE=DATE:20200805
DESCRIPTION:Property ID# 484882\, Locatoin: 247 Cameron Road\, Tauranga\, T
 ime: 1:00PM
SUMMARY:Auction for 
END:VEVENT
END:VCALENDAR
