BEGIN:VCALENDAR
VERSION:2.0
PRODID:icalendar-ruby
CALSCALE:GREGORIAN
BEGIN:VEVENT
DTSTAMP:20210122T073951Z
UID:602999cf-fb5a-474b-bc61-97f8cd14e0b6
DTSTART;VALUE=DATE:20200708
DESCRIPTION:Property ID# 482591\, Locatoin: 247 Cameron Road\, Tauranga\, T
 ime: 1:00PM
SUMMARY:Auction for 
END:VEVENT
END:VCALENDAR
