BEGIN:VCALENDAR
VERSION:2.0
PRODID:icalendar-ruby
CALSCALE:GREGORIAN
BEGIN:VEVENT
DTSTAMP:20210122T073441Z
UID:b7a7be37-61c5-47d6-b7e8-d3f265edc912
DTSTART;VALUE=DATE:20200312
DESCRIPTION:Property ID# 473413\, Time: 4:00PM
SUMMARY:Auction for 
END:VEVENT
END:VCALENDAR
