BEGIN:VCALENDAR
VERSION:2.0
PRODID:icalendar-ruby
CALSCALE:GREGORIAN
BEGIN:VEVENT
DTSTAMP:20210122T073440Z
UID:b90137ad-643a-42d9-bfec-3e91609bcf2e
DTSTART;VALUE=DATE:20200403
DESCRIPTION:Property ID# 473412\, Time: 4:00PM
SUMMARY:Auction for 3 Borell Rd
END:VEVENT
END:VCALENDAR
