BEGIN:VCALENDAR
VERSION:2.0
PRODID:icalendar-ruby
CALSCALE:GREGORIAN
BEGIN:VEVENT
DTSTAMP:20210122T073356Z
UID:09acbbe0-6c81-428f-9c1d-f5f43060ce5f
DTSTART;VALUE=DATE:20191030
DESCRIPTION:Property ID# 461702\, Locatoin: 247 Cameron Road\, Tauranga (un
 less sold prior)\, Time: 1:00PM
SUMMARY:Auction for 
END:VEVENT
END:VCALENDAR
