BEGIN:VCALENDAR
VERSION:2.0
PRODID:icalendar-ruby
CALSCALE:GREGORIAN
BEGIN:VEVENT
DTSTAMP:20210122T073443Z
UID:ac8816e8-42e0-4b4b-a179-219673e8ddb1
DTSTART;VALUE=DATE:20190924
DESCRIPTION:Property ID# 460814\, Time: 4:00PM
SUMMARY:Auction for 
END:VEVENT
END:VCALENDAR
